BEGIN:VCALENDAR
VERSION:2.0
PRODID:-//OLGA de DIOS - ECPv6.15.17.1//NONSGML v1.0//EN
CALSCALE:GREGORIAN
METHOD:PUBLISH
X-WR-CALNAME:OLGA de DIOS
X-ORIGINAL-URL:https://olgadedios.es
X-WR-CALDESC:Eventos para OLGA de DIOS
REFRESH-INTERVAL;VALUE=DURATION:PT1H
X-Robots-Tag:noindex
X-PUBLISHED-TTL:PT1H
BEGIN:VTIMEZONE
TZID:UTC
BEGIN:STANDARD
TZOFFSETFROM:+0000
TZOFFSETTO:+0000
TZNAME:UTC
DTSTART:20250101T000000
END:STANDARD
END:VTIMEZONE
BEGIN:VEVENT
DTSTART;TZID=UTC:20260411T183000
DTEND;TZID=UTC:20260411T183000
DTSTAMP:20260424T125213
CREATED:20260408T131318Z
LAST-MODIFIED:20260408T131318Z
UID:3176-1775932200-1775932200@olgadedios.es
SUMMARY:Encuentro con Olga de Dios. ALGECIRAS
DESCRIPTION:Encuentro con Olga de Dios: 13 años creando personajes y narraciones gráficas libres de estereotipos sexistas\nEn este encuentro con Olga de Dios en Algeciras\, la autora e ilustradora compartirá su trayectoria a lo largo de 13 años creando personajes y narraciones gráficas libres de estereotipos sexistas. \nA través de un recorrido visual apoyado en imágenes\, Olga de Dios mostrará su trabajo como creadora de personajes y autora de literatura ilustrada\, acercándonos a su proceso creativo y a la construcción de su universo artístico. \nNos adentraremos en el origen de personajes como Monstruo Rosa\, Bicho Pelota o La estrella con los pies en el suelo\, protagonistas de sus propios libros. Personajes concebidos desde la libertad creativa\, con la voluntad de acercar a la infancia el valor positivo de la diversidad en nuestra sociedad. \nEste encuentro propone un espacio de escucha y diálogo\, en el que los asistentes podrán conocer de cerca su proceso de ideación y compartir preguntas\, reflexiones e inquietudes en torno al álbum ilustrado y su papel en la educación. \nUna oportunidad para descubrir propuestas artísticas dirigidas a la infancia desde una mirada respetuosa\, creativa y comprometida. \n Una oportunidad única para aprender desde dentro cómo se construye un álbum ilustrado. \n Público: adultos\, docentes\, educadores y estudiantes de arte \n⚠️ Plazas limitadas. Se recomienda reservar con antelación en este enlace. \n️ Entrada: 12 € \n\nEste encuentro forma parte de Misión Lectura en Algeciras\, un evento cultural con actividades infantiles y juveniles\, encuentros con autores e ilustradores y propuestas de fomento lector. \n Consulta aquí toda la programación:https://lacalendulacuenta.org/programacion-completa/ \n Una oportunidad única para comprender el proceso creativo del álbum ilustrado desde dentro y vivir una experiencia compartida.
URL:https://olgadedios.es/event/encuentro-con-olga-de-dios-algeciras/
LOCATION:Biblioteca Municipal «Cristóbal Delgado»\, Periodista José Vallecillo s/n\, Algeciras\, Cádiz\, 11202\, Spain
CATEGORIES:Charla abierta
ATTACH;FMTTYPE=image/jpeg:https://olgadedios.es/wp-content/uploads/2015/03/buscar01.jpg
ORGANIZER;CN="La Calendula":MAILTO:lacalendulatienda@gmail.com
END:VEVENT
END:VCALENDAR