BEGIN:VCALENDAR
VERSION:2.0
PRODID:-//OLGA de DIOS - ECPv6.15.17.1//NONSGML v1.0//EN
CALSCALE:GREGORIAN
METHOD:PUBLISH
X-WR-CALNAME:OLGA de DIOS
X-ORIGINAL-URL:https://olgadedios.es
X-WR-CALDESC:Eventos para OLGA de DIOS
REFRESH-INTERVAL;VALUE=DURATION:PT1H
X-Robots-Tag:noindex
X-PUBLISHED-TTL:PT1H
BEGIN:VTIMEZONE
TZID:UTC
BEGIN:STANDARD
TZOFFSETFROM:+0000
TZOFFSETTO:+0000
TZNAME:UTC
DTSTART:20250101T000000
END:STANDARD
END:VTIMEZONE
BEGIN:VEVENT
DTSTART;TZID=UTC:20260416T160000
DTEND;TZID=UTC:20260416T180000
DTSTAMP:20260424T125116
CREATED:20260414T114410Z
LAST-MODIFIED:20260414T114651Z
UID:3181-1776355200-1776362400@olgadedios.es
SUMMARY:Seminario "Deslizar abierto" en el Museo Nacional del Prado. MADRID
DESCRIPTION:Deslizar abierto 2026: Sobre arte y escuela\n  \nDestinado a docentes de todos los niveles y especialidades\, así como a personas interesadas en el cruce entre el arte y la educación\, Deslizar Abierto parte del compromiso del Museo del Prado por dotar al profesorado de herramientas creativas que se vinculen de manera directa a sus necesidades educativas. En esta serie de conversatorios/ taller descubriremos las posibilidades del arte y las prácticas artísticas como herramienta educativa\, y no sólo como contenido curricular de la mano de grandes referentes del vínculo entre arte y educación. \nEl ciclo está compuesto por cuatro módulos —que se celebrarán los días 16 de abril\, 14 de mayo\, 11 y 22 de junio de 2025— a los que se puede asistir de manera independiente. No obstante\, quienes participen en el ciclo completo (las 4 sesiones) podrán obtener reconocimiento: el profesorado de centros de educación pública en activo recibirá 1 crédito de formación y el resto de participantes podrá solicitar un certificado. \nContaremos con la participación de destacadas voces del pensamiento y la práctica contemporánea del arte y la educación como Olga de Dios\, Rafael Lamata\, Yayo Herrero\, Vito Gil-Delgado\, Ana Ausín y el colectivo Mad Materials\, cuyas trayectorias ofrecen una mirada inspiradora y profundamente comprometida con la relación entre arte\, escuela y sociedad. \nDeslizar es un proyecto que trabaja para apoyar la labor de los centros escolares generando una red de trabajo e investigación en torno y a través del arte con equipos multidisciplinares formados por docentes\, artistas\, estudiantes\, investigadores y educadoras de museos. \n  \n\n\n\nJueves 16 de abril 2026\n\n\n\n\n16.00 h Deslizar abierto I. Sobre arte y escuela. Escucha y Comunicación\n\n  \nEn el marco de Deslizar Abierto 2026 del Museo del Prado\, esta jornada propone un espacio de encuentro donde la escucha se convierte en punto de partida para la creación. Junto a la ilustradora Olga de Dios y la artista Vito Gil Delgado\, nos sentaremos a conversar y a hacer\, explorando cómo atender a lo que ocurre en el aula —las voces\, los silencios\, las preguntas— puede transformarse en relato\, en imagen y en experiencia compartida. \n  \n\n16.00 h Bienvenida y presentación\n16.05 h Un encuentro creativo con… Olga de Dios: Cómo convertir la escucha en relato para educar en libertad\n17.20 h Conversatorio abierto\n\nOlga de Dios y Vito Gil-Delgado\, artista participante en Deslizar 2026 dentro del eje “escucha y comunicación”\, moderada por Sofía de Juan (Coordinadora del Programa Deslizar). \n\n18.00 h Cierre\n\n\n\nMás información e inscripciones aquí 
URL:https://olgadedios.es/event/seminario-deslizar-abierto-en-el-museo-nacional-del-prado-madrid/
LOCATION:Museo Nacional del Prado\, Paseo del Prado s/n\, madrid\, Madrid\, 28014\, Spain
CATEGORIES:Charla abierta
ATTACH;FMTTYPE=image/jpeg:https://olgadedios.es/wp-content/uploads/2026/04/GiDtXC8XEAECdCN.jpg
END:VEVENT
END:VCALENDAR