BEGIN:VCALENDAR
VERSION:2.0
PRODID:-//OLGA de DIOS - ECPv6.15.17.1//NONSGML v1.0//EN
CALSCALE:GREGORIAN
METHOD:PUBLISH
X-WR-CALNAME:OLGA de DIOS
X-ORIGINAL-URL:https://olgadedios.es
X-WR-CALDESC:Eventos para OLGA de DIOS
REFRESH-INTERVAL;VALUE=DURATION:PT1H
X-Robots-Tag:noindex
X-PUBLISHED-TTL:PT1H
BEGIN:VTIMEZONE
TZID:UTC
BEGIN:STANDARD
TZOFFSETFROM:+0000
TZOFFSETTO:+0000
TZNAME:UTC
DTSTART:20250101T000000
END:STANDARD
END:VTIMEZONE
BEGIN:VEVENT
DTSTART;TZID=UTC:20260411T110000
DTEND;TZID=UTC:20260411T130000
DTSTAMP:20260424T174604
CREATED:20260408T130154Z
LAST-MODIFIED:20260408T130154Z
UID:3170-1775905200-1775912400@olgadedios.es
SUMMARY:Taller de creación colectiva de estrellas "Misión Lectura" ALGECIRAS
DESCRIPTION:De la mano de Olga de Dios viviremos una experiencia artística y narrativa única inspirada en su último libro titulado La estrella con los pies en el suelo\, Apila ediciones.\n\nEn este taller de creación colectiva\, niñas y niños —junto a sus familias— fabricarán cientos de pequeñas estrellas para construir una galaxia nueva: un universo inventado entre todas y todos\, donde cada punto de luz abre un rumbo distinto. Guiados por la ilustradora Olga de Dios\, exploraremos las posibilidades de la pintura bajo luz ultravioleta\, jugando con témperas fluorescentes que brillan y se transforman al ritmo de nuestra creatividad. \nSerá un espacio único para experimentar\, compartir y descubrir cómo la luz revela formas inesperadas\, cómo una mancha se convierte en estrella y cómo\, juntas\, esas estrellas pueden contarnos historias nuevas. \nAl terminar el taller\, Olga de Dios narrará La estrella con los pies en el suelo\, su último libro\, una aventura tierna y luminosa que dialoga con el espíritu del taller. \n\nUn taller pensado para niños y niñas a partir de 4 años\, acompañados de un adulto\, que propone un acercamiento a la creación artística desde la libertad\, la exploración sensorial y el juego. \nUna oportunidad única para conocer de cerca a una de las autoras más reconocidas de la literatura infantil y formar parte de una experiencia colectiva donde cada niño deja su huella en una obra común. \n \n\nEste taller contará con interpretación en lengua de signos\, a cargo de Almoraima Ruiz\, favoreciendo una experiencia accesible e inclusiva para todos los participantes. \nPara garantizar que todas las familias puedan participar\, hemos reservado algunas plazas destinadas a quienes puedan necesitar este apoyo específico. \nACCESO LIBRE necesaria inscripción previa  \n\nEsta actividad forma parte del evento Misión Lectura en Algeciras\, un encuentro con talleres\, cuentacuentos y actividades para público infantil y juvenil. \n Puedes consultar aquí el resto de actividades:https://lacalendulacuenta.org/programacion-completa
URL:https://olgadedios.es/event/taller-de-creacion-colectiva-de-estrellas-mision-lectura-algeciras/
LOCATION:Biblioteca Municipal «Cristóbal Delgado»\, Periodista José Vallecillo s/n\, Algeciras\, Cádiz\, 11202\, Spain
CATEGORIES:Cuentacuentos,Firmas,Taller
ATTACH;FMTTYPE=image/jpeg:https://olgadedios.es/wp-content/uploads/2026/02/reel-taller-Estrellas-e1770656926164.jpg
ORGANIZER;CN="La Calendula":MAILTO:lacalendulatienda@gmail.com
END:VEVENT
END:VCALENDAR